BEGIN:VCALENDAR
VERSION:2.0
PRODID:-//&#039;t Praethuys Alkmaar - ECPv6.15.12.1//NONSGML v1.0//EN
CALSCALE:GREGORIAN
METHOD:PUBLISH
X-WR-CALNAME:&#039;t Praethuys Alkmaar
X-ORIGINAL-URL:https://praethuys.nl
X-WR-CALDESC:Evenementen voor &#039;t Praethuys Alkmaar
REFRESH-INTERVAL;VALUE=DURATION:PT1H
X-Robots-Tag:noindex
X-PUBLISHED-TTL:PT1H
BEGIN:VTIMEZONE
TZID:Europe/Amsterdam
BEGIN:DAYLIGHT
TZOFFSETFROM:+0100
TZOFFSETTO:+0200
TZNAME:CEST
DTSTART:20240331T010000
END:DAYLIGHT
BEGIN:STANDARD
TZOFFSETFROM:+0200
TZOFFSETTO:+0100
TZNAME:CET
DTSTART:20241027T010000
END:STANDARD
BEGIN:DAYLIGHT
TZOFFSETFROM:+0100
TZOFFSETTO:+0200
TZNAME:CEST
DTSTART:20250330T010000
END:DAYLIGHT
BEGIN:STANDARD
TZOFFSETFROM:+0200
TZOFFSETTO:+0100
TZNAME:CET
DTSTART:20251026T010000
END:STANDARD
BEGIN:DAYLIGHT
TZOFFSETFROM:+0100
TZOFFSETTO:+0200
TZNAME:CEST
DTSTART:20260329T010000
END:DAYLIGHT
BEGIN:STANDARD
TZOFFSETFROM:+0200
TZOFFSETTO:+0100
TZNAME:CET
DTSTART:20261025T010000
END:STANDARD
END:VTIMEZONE
BEGIN:VEVENT
DTSTART;TZID=Europe/Amsterdam:20251030T100000
DTEND;TZID=Europe/Amsterdam:20251030T120000
DTSTAMP:20260422T052838
CREATED:20251016T151341Z
LAST-MODIFIED:20251016T152550Z
UID:10302-1761818400-1761825600@praethuys.nl
SUMMARY:Koffie-ochtend voor gasten met kanker
DESCRIPTION:Donderdagochtend nodigen wij graag onze vertrouwde en nieuwe gasten uit die zelf kanker hebben. Onze gastvrouwen heten je graag van harte welkom en zij verzorgen de koffie/thee\, terwijl jij vrijblijvend met andere gasten in gesprek kan gaan over het leven met kanker. Aanmelden is voor deze ochtend niet nodig. Voel je van harte welkom.
URL:https://praethuys.nl/evenement/koffie-ochtend-voor-gasten-met-kanker-2/
CATEGORIES:Lotgenoten,Volwassenen
ATTACH;FMTTYPE=image/png:https://praethuys.nl/wp-content/uploads/2025/10/Koffie_ochtend.png
END:VEVENT
BEGIN:VEVENT
DTSTART;TZID=Europe/Amsterdam:20251030T100000
DTEND;TZID=Europe/Amsterdam:20251030T120000
DTSTAMP:20260422T052838
CREATED:20251016T151341Z
LAST-MODIFIED:20251016T152550Z
UID:10302-1761818400-1761825600@praethuys.nl
SUMMARY:Koffie-ochtend voor gasten met kanker
DESCRIPTION:Donderdagochtend nodigen wij graag onze vertrouwde en nieuwe gasten uit die zelf kanker hebben. Onze gastvrouwen heten je graag van harte welkom en zij verzorgen de koffie/thee\, terwijl jij vrijblijvend met andere gasten in gesprek kan gaan over het leven met kanker. Aanmelden is voor deze ochtend niet nodig. Voel je van harte welkom.
URL:https://praethuys.nl/evenement/koffie-ochtend-voor-gasten-met-kanker-2/
CATEGORIES:Lotgenoten,Volwassenen
ATTACH;FMTTYPE=image/png:https://praethuys.nl/wp-content/uploads/2025/10/Koffie_ochtend.png
END:VEVENT
BEGIN:VEVENT
DTSTART;TZID=Europe/Amsterdam:20251030T100000
DTEND;TZID=Europe/Amsterdam:20251030T120000
DTSTAMP:20260422T052838
CREATED:20251016T151341Z
LAST-MODIFIED:20251016T152550Z
UID:10302-1761818400-1761825600@praethuys.nl
SUMMARY:Koffie-ochtend voor gasten met kanker
DESCRIPTION:Donderdagochtend nodigen wij graag onze vertrouwde en nieuwe gasten uit die zelf kanker hebben. Onze gastvrouwen heten je graag van harte welkom en zij verzorgen de koffie/thee\, terwijl jij vrijblijvend met andere gasten in gesprek kan gaan over het leven met kanker. Aanmelden is voor deze ochtend niet nodig. Voel je van harte welkom.
URL:https://praethuys.nl/evenement/koffie-ochtend-voor-gasten-met-kanker-2/
CATEGORIES:Lotgenoten,Volwassenen
ATTACH;FMTTYPE=image/png:https://praethuys.nl/wp-content/uploads/2025/10/Koffie_ochtend.png
END:VEVENT
BEGIN:VEVENT
DTSTART;TZID=Europe/Amsterdam:20251030T100000
DTEND;TZID=Europe/Amsterdam:20251030T120000
DTSTAMP:20260422T052838
CREATED:20251016T151341Z
LAST-MODIFIED:20251016T152550Z
UID:10302-1761818400-1761825600@praethuys.nl
SUMMARY:Koffie-ochtend voor gasten met kanker
DESCRIPTION:Donderdagochtend nodigen wij graag onze vertrouwde en nieuwe gasten uit die zelf kanker hebben. Onze gastvrouwen heten je graag van harte welkom en zij verzorgen de koffie/thee\, terwijl jij vrijblijvend met andere gasten in gesprek kan gaan over het leven met kanker. Aanmelden is voor deze ochtend niet nodig. Voel je van harte welkom.
URL:https://praethuys.nl/evenement/koffie-ochtend-voor-gasten-met-kanker-2/
CATEGORIES:Lotgenoten,Volwassenen
ATTACH;FMTTYPE=image/png:https://praethuys.nl/wp-content/uploads/2025/10/Koffie_ochtend.png
END:VEVENT
BEGIN:VEVENT
DTSTART;TZID=Europe/Amsterdam:20251030T100000
DTEND;TZID=Europe/Amsterdam:20251030T120000
DTSTAMP:20260422T052838
CREATED:20251016T151341Z
LAST-MODIFIED:20251016T152550Z
UID:10302-1761818400-1761825600@praethuys.nl
SUMMARY:Koffie-ochtend voor gasten met kanker
DESCRIPTION:Donderdagochtend nodigen wij graag onze vertrouwde en nieuwe gasten uit die zelf kanker hebben. Onze gastvrouwen heten je graag van harte welkom en zij verzorgen de koffie/thee\, terwijl jij vrijblijvend met andere gasten in gesprek kan gaan over het leven met kanker. Aanmelden is voor deze ochtend niet nodig. Voel je van harte welkom.
URL:https://praethuys.nl/evenement/koffie-ochtend-voor-gasten-met-kanker-2/
CATEGORIES:Lotgenoten,Volwassenen
ATTACH;FMTTYPE=image/png:https://praethuys.nl/wp-content/uploads/2025/10/Koffie_ochtend.png
END:VEVENT
BEGIN:VEVENT
DTSTART;TZID=Europe/Amsterdam:20251030T100000
DTEND;TZID=Europe/Amsterdam:20251030T120000
DTSTAMP:20260422T052838
CREATED:20251016T151341Z
LAST-MODIFIED:20251016T152550Z
UID:10302-1761818400-1761825600@praethuys.nl
SUMMARY:Koffie-ochtend voor gasten met kanker
DESCRIPTION:Donderdagochtend nodigen wij graag onze vertrouwde en nieuwe gasten uit die zelf kanker hebben. Onze gastvrouwen heten je graag van harte welkom en zij verzorgen de koffie/thee\, terwijl jij vrijblijvend met andere gasten in gesprek kan gaan over het leven met kanker. Aanmelden is voor deze ochtend niet nodig. Voel je van harte welkom.
URL:https://praethuys.nl/evenement/koffie-ochtend-voor-gasten-met-kanker-2/
CATEGORIES:Lotgenoten,Volwassenen
ATTACH;FMTTYPE=image/png:https://praethuys.nl/wp-content/uploads/2025/10/Koffie_ochtend.png
END:VEVENT
BEGIN:VEVENT
DTSTART;TZID=Europe/Amsterdam:20251030T100000
DTEND;TZID=Europe/Amsterdam:20251030T120000
DTSTAMP:20260422T052838
CREATED:20251016T151341Z
LAST-MODIFIED:20251016T152550Z
UID:10302-1761818400-1761825600@praethuys.nl
SUMMARY:Koffie-ochtend voor gasten met kanker
DESCRIPTION:Donderdagochtend nodigen wij graag onze vertrouwde en nieuwe gasten uit die zelf kanker hebben. Onze gastvrouwen heten je graag van harte welkom en zij verzorgen de koffie/thee\, terwijl jij vrijblijvend met andere gasten in gesprek kan gaan over het leven met kanker. Aanmelden is voor deze ochtend niet nodig. Voel je van harte welkom.
URL:https://praethuys.nl/evenement/koffie-ochtend-voor-gasten-met-kanker-2/
CATEGORIES:Lotgenoten,Volwassenen
ATTACH;FMTTYPE=image/png:https://praethuys.nl/wp-content/uploads/2025/10/Koffie_ochtend.png
END:VEVENT
BEGIN:VEVENT
DTSTART;TZID=Europe/Amsterdam:20251030T100000
DTEND;TZID=Europe/Amsterdam:20251030T120000
DTSTAMP:20260422T052838
CREATED:20251016T151341Z
LAST-MODIFIED:20251016T152550Z
UID:10302-1761818400-1761825600@praethuys.nl
SUMMARY:Koffie-ochtend voor gasten met kanker
DESCRIPTION:Donderdagochtend nodigen wij graag onze vertrouwde en nieuwe gasten uit die zelf kanker hebben. Onze gastvrouwen heten je graag van harte welkom en zij verzorgen de koffie/thee\, terwijl jij vrijblijvend met andere gasten in gesprek kan gaan over het leven met kanker. Aanmelden is voor deze ochtend niet nodig. Voel je van harte welkom.
URL:https://praethuys.nl/evenement/koffie-ochtend-voor-gasten-met-kanker-2/
CATEGORIES:Lotgenoten,Volwassenen
ATTACH;FMTTYPE=image/png:https://praethuys.nl/wp-content/uploads/2025/10/Koffie_ochtend.png
END:VEVENT
BEGIN:VEVENT
DTSTART;TZID=Europe/Amsterdam:20251030T100000
DTEND;TZID=Europe/Amsterdam:20251030T120000
DTSTAMP:20260422T052838
CREATED:20251016T151341Z
LAST-MODIFIED:20251016T152550Z
UID:10302-1761818400-1761825600@praethuys.nl
SUMMARY:Koffie-ochtend voor gasten met kanker
DESCRIPTION:Donderdagochtend nodigen wij graag onze vertrouwde en nieuwe gasten uit die zelf kanker hebben. Onze gastvrouwen heten je graag van harte welkom en zij verzorgen de koffie/thee\, terwijl jij vrijblijvend met andere gasten in gesprek kan gaan over het leven met kanker. Aanmelden is voor deze ochtend niet nodig. Voel je van harte welkom.
URL:https://praethuys.nl/evenement/koffie-ochtend-voor-gasten-met-kanker-2/
CATEGORIES:Lotgenoten,Volwassenen
ATTACH;FMTTYPE=image/png:https://praethuys.nl/wp-content/uploads/2025/10/Koffie_ochtend.png
END:VEVENT
BEGIN:VEVENT
DTSTART;TZID=Europe/Amsterdam:20251030T100000
DTEND;TZID=Europe/Amsterdam:20251030T120000
DTSTAMP:20260422T052838
CREATED:20251016T151341Z
LAST-MODIFIED:20251016T152550Z
UID:10302-1761818400-1761825600@praethuys.nl
SUMMARY:Koffie-ochtend voor gasten met kanker
DESCRIPTION:Donderdagochtend nodigen wij graag onze vertrouwde en nieuwe gasten uit die zelf kanker hebben. Onze gastvrouwen heten je graag van harte welkom en zij verzorgen de koffie/thee\, terwijl jij vrijblijvend met andere gasten in gesprek kan gaan over het leven met kanker. Aanmelden is voor deze ochtend niet nodig. Voel je van harte welkom.
URL:https://praethuys.nl/evenement/koffie-ochtend-voor-gasten-met-kanker-2/
CATEGORIES:Lotgenoten,Volwassenen
ATTACH;FMTTYPE=image/png:https://praethuys.nl/wp-content/uploads/2025/10/Koffie_ochtend.png
END:VEVENT
BEGIN:VEVENT
DTSTART;TZID=Europe/Amsterdam:20251030T100000
DTEND;TZID=Europe/Amsterdam:20251030T120000
DTSTAMP:20260422T052838
CREATED:20251016T151341Z
LAST-MODIFIED:20251016T152550Z
UID:10302-1761818400-1761825600@praethuys.nl
SUMMARY:Koffie-ochtend voor gasten met kanker
DESCRIPTION:Donderdagochtend nodigen wij graag onze vertrouwde en nieuwe gasten uit die zelf kanker hebben. Onze gastvrouwen heten je graag van harte welkom en zij verzorgen de koffie/thee\, terwijl jij vrijblijvend met andere gasten in gesprek kan gaan over het leven met kanker. Aanmelden is voor deze ochtend niet nodig. Voel je van harte welkom.
URL:https://praethuys.nl/evenement/koffie-ochtend-voor-gasten-met-kanker-2/
CATEGORIES:Lotgenoten,Volwassenen
ATTACH;FMTTYPE=image/png:https://praethuys.nl/wp-content/uploads/2025/10/Koffie_ochtend.png
END:VEVENT
BEGIN:VEVENT
DTSTART;TZID=Europe/Amsterdam:20251030T100000
DTEND;TZID=Europe/Amsterdam:20251030T120000
DTSTAMP:20260422T052838
CREATED:20251016T151341Z
LAST-MODIFIED:20251016T152550Z
UID:10302-1761818400-1761825600@praethuys.nl
SUMMARY:Koffie-ochtend voor gasten met kanker
DESCRIPTION:Donderdagochtend nodigen wij graag onze vertrouwde en nieuwe gasten uit die zelf kanker hebben. Onze gastvrouwen heten je graag van harte welkom en zij verzorgen de koffie/thee\, terwijl jij vrijblijvend met andere gasten in gesprek kan gaan over het leven met kanker. Aanmelden is voor deze ochtend niet nodig. Voel je van harte welkom.
URL:https://praethuys.nl/evenement/koffie-ochtend-voor-gasten-met-kanker-2/
CATEGORIES:Lotgenoten,Volwassenen
ATTACH;FMTTYPE=image/png:https://praethuys.nl/wp-content/uploads/2025/10/Koffie_ochtend.png
END:VEVENT
BEGIN:VEVENT
DTSTART;TZID=Europe/Amsterdam:20251030T100000
DTEND;TZID=Europe/Amsterdam:20251030T120000
DTSTAMP:20260422T052838
CREATED:20251016T151341Z
LAST-MODIFIED:20251016T152550Z
UID:10302-1761818400-1761825600@praethuys.nl
SUMMARY:Koffie-ochtend voor gasten met kanker
DESCRIPTION:Donderdagochtend nodigen wij graag onze vertrouwde en nieuwe gasten uit die zelf kanker hebben. Onze gastvrouwen heten je graag van harte welkom en zij verzorgen de koffie/thee\, terwijl jij vrijblijvend met andere gasten in gesprek kan gaan over het leven met kanker. Aanmelden is voor deze ochtend niet nodig. Voel je van harte welkom.
URL:https://praethuys.nl/evenement/koffie-ochtend-voor-gasten-met-kanker-2/
CATEGORIES:Lotgenoten,Volwassenen
ATTACH;FMTTYPE=image/png:https://praethuys.nl/wp-content/uploads/2025/10/Koffie_ochtend.png
END:VEVENT
BEGIN:VEVENT
DTSTART;TZID=Europe/Amsterdam:20251030T100000
DTEND;TZID=Europe/Amsterdam:20251030T120000
DTSTAMP:20260422T052838
CREATED:20251016T151341Z
LAST-MODIFIED:20251016T152550Z
UID:10302-1761818400-1761825600@praethuys.nl
SUMMARY:Koffie-ochtend voor gasten met kanker
DESCRIPTION:Donderdagochtend nodigen wij graag onze vertrouwde en nieuwe gasten uit die zelf kanker hebben. Onze gastvrouwen heten je graag van harte welkom en zij verzorgen de koffie/thee\, terwijl jij vrijblijvend met andere gasten in gesprek kan gaan over het leven met kanker. Aanmelden is voor deze ochtend niet nodig. Voel je van harte welkom.
URL:https://praethuys.nl/evenement/koffie-ochtend-voor-gasten-met-kanker-2/
CATEGORIES:Lotgenoten,Volwassenen
ATTACH;FMTTYPE=image/png:https://praethuys.nl/wp-content/uploads/2025/10/Koffie_ochtend.png
END:VEVENT
BEGIN:VEVENT
DTSTART;TZID=Europe/Amsterdam:20251030T100000
DTEND;TZID=Europe/Amsterdam:20251030T120000
DTSTAMP:20260422T052838
CREATED:20251016T151341Z
LAST-MODIFIED:20251016T152550Z
UID:10302-1761818400-1761825600@praethuys.nl
SUMMARY:Koffie-ochtend voor gasten met kanker
DESCRIPTION:Donderdagochtend nodigen wij graag onze vertrouwde en nieuwe gasten uit die zelf kanker hebben. Onze gastvrouwen heten je graag van harte welkom en zij verzorgen de koffie/thee\, terwijl jij vrijblijvend met andere gasten in gesprek kan gaan over het leven met kanker. Aanmelden is voor deze ochtend niet nodig. Voel je van harte welkom.
URL:https://praethuys.nl/evenement/koffie-ochtend-voor-gasten-met-kanker-2/
CATEGORIES:Lotgenoten,Volwassenen
ATTACH;FMTTYPE=image/png:https://praethuys.nl/wp-content/uploads/2025/10/Koffie_ochtend.png
END:VEVENT
BEGIN:VEVENT
DTSTART;TZID=Europe/Amsterdam:20251030T100000
DTEND;TZID=Europe/Amsterdam:20251030T120000
DTSTAMP:20260422T052838
CREATED:20251016T151341Z
LAST-MODIFIED:20251016T152550Z
UID:10302-1761818400-1761825600@praethuys.nl
SUMMARY:Koffie-ochtend voor gasten met kanker
DESCRIPTION:Donderdagochtend nodigen wij graag onze vertrouwde en nieuwe gasten uit die zelf kanker hebben. Onze gastvrouwen heten je graag van harte welkom en zij verzorgen de koffie/thee\, terwijl jij vrijblijvend met andere gasten in gesprek kan gaan over het leven met kanker. Aanmelden is voor deze ochtend niet nodig. Voel je van harte welkom.
URL:https://praethuys.nl/evenement/koffie-ochtend-voor-gasten-met-kanker-2/
CATEGORIES:Lotgenoten,Volwassenen
ATTACH;FMTTYPE=image/png:https://praethuys.nl/wp-content/uploads/2025/10/Koffie_ochtend.png
END:VEVENT
BEGIN:VEVENT
DTSTART;TZID=Europe/Amsterdam:20251030T100000
DTEND;TZID=Europe/Amsterdam:20251030T120000
DTSTAMP:20260422T052838
CREATED:20251016T151341Z
LAST-MODIFIED:20251016T152550Z
UID:10302-1761818400-1761825600@praethuys.nl
SUMMARY:Koffie-ochtend voor gasten met kanker
DESCRIPTION:Donderdagochtend nodigen wij graag onze vertrouwde en nieuwe gasten uit die zelf kanker hebben. Onze gastvrouwen heten je graag van harte welkom en zij verzorgen de koffie/thee\, terwijl jij vrijblijvend met andere gasten in gesprek kan gaan over het leven met kanker. Aanmelden is voor deze ochtend niet nodig. Voel je van harte welkom.
URL:https://praethuys.nl/evenement/koffie-ochtend-voor-gasten-met-kanker-2/
CATEGORIES:Lotgenoten,Volwassenen
ATTACH;FMTTYPE=image/png:https://praethuys.nl/wp-content/uploads/2025/10/Koffie_ochtend.png
END:VEVENT
BEGIN:VEVENT
DTSTART;TZID=Europe/Amsterdam:20251030T100000
DTEND;TZID=Europe/Amsterdam:20251030T120000
DTSTAMP:20260422T052838
CREATED:20251016T151341Z
LAST-MODIFIED:20251016T152550Z
UID:10302-1761818400-1761825600@praethuys.nl
SUMMARY:Koffie-ochtend voor gasten met kanker
DESCRIPTION:Donderdagochtend nodigen wij graag onze vertrouwde en nieuwe gasten uit die zelf kanker hebben. Onze gastvrouwen heten je graag van harte welkom en zij verzorgen de koffie/thee\, terwijl jij vrijblijvend met andere gasten in gesprek kan gaan over het leven met kanker. Aanmelden is voor deze ochtend niet nodig. Voel je van harte welkom.
URL:https://praethuys.nl/evenement/koffie-ochtend-voor-gasten-met-kanker-2/
CATEGORIES:Lotgenoten,Volwassenen
ATTACH;FMTTYPE=image/png:https://praethuys.nl/wp-content/uploads/2025/10/Koffie_ochtend.png
END:VEVENT
BEGIN:VEVENT
DTSTART;TZID=Europe/Amsterdam:20251030T100000
DTEND;TZID=Europe/Amsterdam:20251030T120000
DTSTAMP:20260422T052838
CREATED:20251016T151341Z
LAST-MODIFIED:20251016T152550Z
UID:10302-1761818400-1761825600@praethuys.nl
SUMMARY:Koffie-ochtend voor gasten met kanker
DESCRIPTION:Donderdagochtend nodigen wij graag onze vertrouwde en nieuwe gasten uit die zelf kanker hebben. Onze gastvrouwen heten je graag van harte welkom en zij verzorgen de koffie/thee\, terwijl jij vrijblijvend met andere gasten in gesprek kan gaan over het leven met kanker. Aanmelden is voor deze ochtend niet nodig. Voel je van harte welkom.
URL:https://praethuys.nl/evenement/koffie-ochtend-voor-gasten-met-kanker-2/
CATEGORIES:Lotgenoten,Volwassenen
ATTACH;FMTTYPE=image/png:https://praethuys.nl/wp-content/uploads/2025/10/Koffie_ochtend.png
END:VEVENT
BEGIN:VEVENT
DTSTART;TZID=Europe/Amsterdam:20251030T100000
DTEND;TZID=Europe/Amsterdam:20251030T120000
DTSTAMP:20260422T052838
CREATED:20251016T151341Z
LAST-MODIFIED:20251016T152550Z
UID:10302-1761818400-1761825600@praethuys.nl
SUMMARY:Koffie-ochtend voor gasten met kanker
DESCRIPTION:Donderdagochtend nodigen wij graag onze vertrouwde en nieuwe gasten uit die zelf kanker hebben. Onze gastvrouwen heten je graag van harte welkom en zij verzorgen de koffie/thee\, terwijl jij vrijblijvend met andere gasten in gesprek kan gaan over het leven met kanker. Aanmelden is voor deze ochtend niet nodig. Voel je van harte welkom.
URL:https://praethuys.nl/evenement/koffie-ochtend-voor-gasten-met-kanker-2/
CATEGORIES:Lotgenoten,Volwassenen
ATTACH;FMTTYPE=image/png:https://praethuys.nl/wp-content/uploads/2025/10/Koffie_ochtend.png
END:VEVENT
BEGIN:VEVENT
DTSTART;TZID=Europe/Amsterdam:20251030T100000
DTEND;TZID=Europe/Amsterdam:20251030T120000
DTSTAMP:20260422T052838
CREATED:20251016T151341Z
LAST-MODIFIED:20251016T152550Z
UID:10302-1761818400-1761825600@praethuys.nl
SUMMARY:Koffie-ochtend voor gasten met kanker
DESCRIPTION:Donderdagochtend nodigen wij graag onze vertrouwde en nieuwe gasten uit die zelf kanker hebben. Onze gastvrouwen heten je graag van harte welkom en zij verzorgen de koffie/thee\, terwijl jij vrijblijvend met andere gasten in gesprek kan gaan over het leven met kanker. Aanmelden is voor deze ochtend niet nodig. Voel je van harte welkom.
URL:https://praethuys.nl/evenement/koffie-ochtend-voor-gasten-met-kanker-2/
CATEGORIES:Lotgenoten,Volwassenen
ATTACH;FMTTYPE=image/png:https://praethuys.nl/wp-content/uploads/2025/10/Koffie_ochtend.png
END:VEVENT
BEGIN:VEVENT
DTSTART;TZID=Europe/Amsterdam:20251030T100000
DTEND;TZID=Europe/Amsterdam:20251030T120000
DTSTAMP:20260422T052838
CREATED:20251016T151341Z
LAST-MODIFIED:20251016T152550Z
UID:10302-1761818400-1761825600@praethuys.nl
SUMMARY:Koffie-ochtend voor gasten met kanker
DESCRIPTION:Donderdagochtend nodigen wij graag onze vertrouwde en nieuwe gasten uit die zelf kanker hebben. Onze gastvrouwen heten je graag van harte welkom en zij verzorgen de koffie/thee\, terwijl jij vrijblijvend met andere gasten in gesprek kan gaan over het leven met kanker. Aanmelden is voor deze ochtend niet nodig. Voel je van harte welkom.
URL:https://praethuys.nl/evenement/koffie-ochtend-voor-gasten-met-kanker-2/
CATEGORIES:Lotgenoten,Volwassenen
ATTACH;FMTTYPE=image/png:https://praethuys.nl/wp-content/uploads/2025/10/Koffie_ochtend.png
END:VEVENT
BEGIN:VEVENT
DTSTART;TZID=Europe/Amsterdam:20251030T100000
DTEND;TZID=Europe/Amsterdam:20251030T120000
DTSTAMP:20260422T052838
CREATED:20251016T151341Z
LAST-MODIFIED:20251016T152550Z
UID:10302-1761818400-1761825600@praethuys.nl
SUMMARY:Koffie-ochtend voor gasten met kanker
DESCRIPTION:Donderdagochtend nodigen wij graag onze vertrouwde en nieuwe gasten uit die zelf kanker hebben. Onze gastvrouwen heten je graag van harte welkom en zij verzorgen de koffie/thee\, terwijl jij vrijblijvend met andere gasten in gesprek kan gaan over het leven met kanker. Aanmelden is voor deze ochtend niet nodig. Voel je van harte welkom.
URL:https://praethuys.nl/evenement/koffie-ochtend-voor-gasten-met-kanker-2/
CATEGORIES:Lotgenoten,Volwassenen
ATTACH;FMTTYPE=image/png:https://praethuys.nl/wp-content/uploads/2025/10/Koffie_ochtend.png
END:VEVENT
END:VCALENDAR